BEGIN:VCALENDAR
VERSION:2.0
PRODID:-//The Ancient Order of Hibernians - ECPv6.2.3.2//NONSGML v1.0//EN
CALSCALE:GREGORIAN
METHOD:PUBLISH
X-ORIGINAL-URL:https://aoh.com
X-WR-CALDESC:Events for The Ancient Order of Hibernians
REFRESH-INTERVAL;VALUE=DURATION:PT1H
X-Robots-Tag:noindex
X-PUBLISHED-TTL:PT1H
BEGIN:VTIMEZONE
TZID:America/New_York
BEGIN:DAYLIGHT
TZOFFSETFROM:-0500
TZOFFSETTO:-0400
TZNAME:EDT
DTSTART:20210314T070000
END:DAYLIGHT
BEGIN:STANDARD
TZOFFSETFROM:-0400
TZOFFSETTO:-0500
TZNAME:EST
DTSTART:20211107T060000
END:STANDARD
END:VTIMEZONE
BEGIN:VEVENT
DTSTART;TZID=America/New_York:20210116T120000
DTEND;TZID=America/New_York:20210116T133000
DTSTAMP:20260420T082204
CREATED:20210114T014138Z
LAST-MODIFIED:20210114T014515Z
UID:8942-1610798400-1610803800@aoh.com
SUMMARY:Pro-Life Webinar with Guest Speaker Catherine Glenn Foster
DESCRIPTION:AOH Pro-Life Chairman Larry Squires will host a webinar this Saturday with Guest Speaker Catherine Glenn Foster\, President and CEO of Americans United for Life. \nSaturdays webinar will be at 12:00 Noon Eastern Time. \nCatherine Glenn Foster\, M.A.\, J.D.\, is President & CEO of Americans United for Life\, America’s first national pro-life organization and the nation’s premier pro-life legal team. AUL’s legal strategists have been involved in every pro-life case before the U.S. Supreme Court since Roe v. Wade. AUL is the pioneer of the state-based model legislative strategy\, which works to save lives today while undermining the so-called “reliance” interest adopted by the Supreme Court in Planned Parenthood v. Casey: the false idea that women “rely” on abortion to succeed in American society. \nWatch on YouTube Live: https://youtu.be/XcLZTA7DnLA \n  \n\n						Share List
URL:https://aoh.com/event/pro-life-webinar-with-guest-speaker-catherine-glenn-foster/
CATEGORIES:Webinar
ATTACH;FMTTYPE=image/png:https://aoh.com/gobansaer/wp-content/uploads/2021/01/ProLifeWebinar.png
END:VEVENT
BEGIN:VEVENT
DTSTART;TZID=America/New_York:20210123T110000
DTEND;TZID=America/New_York:20210123T120000
DTSTAMP:20260420T082204
CREATED:20210111T190839Z
LAST-MODIFIED:20210111T190839Z
UID:8919-1611399600-1611403200@aoh.com
SUMMARY:Hibernians Webinar - Legacy Justice Appeal
DESCRIPTION:Hundreds of victims’ families\, fighting new British plans to cut off chances for legacy justice\, will make a special live appeal for American support on a webinar hosted by Hibernians on Saturday\, January 23rd. This special appeal to Irish Americans will climax a series of events\, including a published open letter signed by hundreds of families\, and political initiatives both north and south. Relatives for Justice Director Mark Thompson and selected victims’ representatives will speak from Ireland\, while America’s oldest and largest Irish organization\, the Ancient Order of Hibernians and Ladies Ancient Order of Hibernians\, will co-host the virtual webinar broadcast\, led by National Presidents Danny O’Connell and Karen Keane. Leaders of other Irish American groups are being invited to participate in the webinar which will begin at 4pm in Ireland\,11am eastern time.\n \nWatch on YouTube Live at: https://youtu.be/NgXYBthu7OQ\n\n						Share List
URL:https://aoh.com/event/hibernians-webinar-legacy-justice-appeal/
CATEGORIES:Webinar
ATTACH;FMTTYPE=image/png:https://aoh.com/gobansaer/wp-content/uploads/2021/01/youtube-thumbnail-maker-for-a-tech-reviews-channel-893-1.png
END:VEVENT
BEGIN:VEVENT
DTSTART;TZID=America/New_York:20210130T130000
DTEND;TZID=America/New_York:20210130T150000
DTSTAMP:20260420T082204
CREATED:20210112T194515Z
LAST-MODIFIED:20210112T202740Z
UID:8936-1612011600-1612018800@aoh.com
SUMMARY:Hibernians Present: An Interview with Author Kevin Barry
DESCRIPTION:AOH Brother Timothy Noonan interviews Irish Author Kevin Barry about his new book “That Old Country Music” a collection of short stories. \n—About the Author— \nBooker Prize-longlisted and International Dublin Literary Award-winning novelist and New Yorker- published short story writer Kevin Barry\, author of the acclaimed books Night Boat to Tangier\, Beatlebone\, City of Bohane\, Dark Lies the Island\, and There Are Little Kingdoms returns this fall with the highly-anticipated THAT OLD COUNTRY MUSIC: Stories (Doubleday; January 12\, 2021; $23.95) — a new collection showcasing eleven exquisite and transporting tales shot through with the dark\, primal powers of Ireland’s timeless language\, characters\, and landscapes. \nSince his landmark debut collection\, There Are Little Kingdoms\, and his award-winning second book\, Dark Lies the Island\, Kevin Barry has become recognized as one of the world’s most accomplished and gifted short story writers. \nIn this third collection\, THAT OLD COUNTRY MUSIC\, readers return to reencounter another ragbag set of western Irish characters\, many on the cusp between love and catastrophe\, heartbreak and epiphany\, resignation and hope. These stories show an Ireland in a condition of great flux but also as a place where older rhythms\, and an older magic\, somehow persist. \nSummoning the haunting beauty and power of the rural Irish countryside masterfully\, Barry’s characters and their situations are rendered as both sad and funny\, melancholy and magical in the classic Hibernian manner. His lyric intensity\, the vitality of his comedy\, and the darkness of his vision recall the work of masters of the genre like Flannery O’Connor and William Trevor\, but he has forged a style which is patently his own. \n\n						Share List
URL:https://aoh.com/event/hibernians-present-an-interview-with-author-kevin-barry/
CATEGORIES:Webinar
ATTACH;FMTTYPE=image/png:https://aoh.com/gobansaer/wp-content/uploads/2021/01/KevinBarryInterview.png
END:VEVENT
END:VCALENDAR