BEGIN:VCALENDAR
VERSION:2.0
PRODID:-//The Ancient Order of Hibernians - ECPv6.2.3.2//NONSGML v1.0//EN
CALSCALE:GREGORIAN
METHOD:PUBLISH
X-ORIGINAL-URL:https://aoh.com
X-WR-CALDESC:Events for The Ancient Order of Hibernians
REFRESH-INTERVAL;VALUE=DURATION:PT1H
X-Robots-Tag:noindex
X-PUBLISHED-TTL:PT1H
BEGIN:VTIMEZONE
TZID:America/New_York
BEGIN:DAYLIGHT
TZOFFSETFROM:-0500
TZOFFSETTO:-0400
TZNAME:EDT
DTSTART:20210314T070000
END:DAYLIGHT
BEGIN:STANDARD
TZOFFSETFROM:-0400
TZOFFSETTO:-0500
TZNAME:EST
DTSTART:20211107T060000
END:STANDARD
END:VTIMEZONE
BEGIN:VEVENT
DTSTART;TZID=America/New_York:20210306T130000
DTEND;TZID=America/New_York:20210306T140000
DTSTAMP:20260420T052228
CREATED:20210301T015500Z
LAST-MODIFIED:20210301T192141Z
UID:9140-1615035600-1615039200@aoh.com
SUMMARY:Irish America and the 1916 Rising (IAHM)
DESCRIPTION:As part of Irish-American Heritage Month (IAHM) the Ancient Order of Hibernians (AOH) hosts “Irish America and the 1916 Rising” with guest speaker Dr. Ruan O’Donnell.  Dr. O’Donnell is a senior lecturer at the University of Limerick.  He has published several books and was the editor of the “16 Lives” series of biographies detailing the lives of the leaders of the 1916 Rising who were executed; Dr. O’Donnell himself writing the biography of Patrick Pearse. \nWatch on YouTube Live: https://youtu.be/SG3glgpBHCU \n\n						Share List
URL:https://aoh.com/event/irish-america-and-the-1916-rising-iahm/
CATEGORIES:Webinar
ATTACH;FMTTYPE=image/png:https://aoh.com/gobansaer/wp-content/uploads/2021/02/RuanODonnel.png
END:VEVENT
BEGIN:VEVENT
DTSTART;TZID=America/New_York:20210313T130000
DTEND;TZID=America/New_York:20210313T140000
DTSTAMP:20260420T052228
CREATED:20210301T021719Z
LAST-MODIFIED:20210301T021747Z
UID:9143-1615640400-1615644000@aoh.com
SUMMARY:Michael McGovern\, the Puddler Poet\, IRB man\, AOH Member (IAHM)
DESCRIPTION:Leo Finnegan and Jim Fahy (RTE Correspondent for the west of Ireland) are writing a book on Michael McGovern the Puddler Poet. McGovern\, like Finnegan and Fahy is from Williamstown\, Galway\, Ireland. \nMichael McGovern\, Irish nationalist\, American patriot\, labor poet was\, in his day\, one of the most powerful voices of working men and women in the U.S.; a man who could galvanize union rallies with song poems like those written in support of beleaguered strikers at the Homestead Steel Mills in Pennsylvania in 1892: \n“Hurrah for the bright redeeming light\nWhich guides the cause of Labor\nAnd union men who with tongue and pen\nFear not the gun or sabre”. \nWatch on YouTube Live: https://youtu.be/Qu8PeZ9Tm50 \n\n						Share List
URL:https://aoh.com/event/michael-mcgovern-the-puddler-poet-irb-man-aoh-member-iahm/
CATEGORIES:Webinar
ATTACH;FMTTYPE=image/png:https://aoh.com/gobansaer/wp-content/uploads/2021/02/McGovernPuddlerPoet.png
END:VEVENT
BEGIN:VEVENT
DTSTART;TZID=America/New_York:20210320T130000
DTEND;TZID=America/New_York:20210320T140000
DTSTAMP:20260420T052228
CREATED:20210301T022923Z
LAST-MODIFIED:20210301T022924Z
UID:9146-1616245200-1616248800@aoh.com
SUMMARY:The Irish in the American Civil War (IAHM)
DESCRIPTION:Damian Shiels is a historian and archaeologist. He has lectured and published widely on both social military history and conflict archaeology. He previously spent time as a curator at the National Museum of Ireland\, where he was part of the team that designed and prepared the award-winning Soldiers and Chiefs military history exhibition. He established and runs the www.irishamericancivilwar.com website. \nWatch on YouTube Live: https://youtu.be/P6q9DrPHZXk \n\n						Share List
URL:https://aoh.com/event/the-irish-in-the-american-civil-war-iahm/
CATEGORIES:Webinar
ATTACH;FMTTYPE=image/png:https://aoh.com/gobansaer/wp-content/uploads/2021/02/IrishInAmericanCivilWar.png
END:VEVENT
BEGIN:VEVENT
DTSTART;TZID=America/New_York:20210321T140000
DTEND;TZID=America/New_York:20210321T150000
DTSTAMP:20260420T052228
CREATED:20210301T024410Z
LAST-MODIFIED:20210301T024410Z
UID:9150-1616335200-1616338800@aoh.com
SUMMARY:Moore Street: Birthplace of the Republic
DESCRIPTION:The AOH joins Save 16 Moore Street Committee / 1916 Relatives Group to host “Moore Street: Birthplace of the Republic” \nCAMPAIGN to protect the historic Moore Street area of Dublin and to see the entire terrace & surrounding laneways designated a National Monument. \nWatch on YouTube Live: https://youtu.be/ylCiG3eRqPE \n\n						Share List
URL:https://aoh.com/event/moore-street-birthplace-of-the-republic/
CATEGORIES:Webinar
ATTACH;FMTTYPE=image/png:https://aoh.com/gobansaer/wp-content/uploads/2021/02/MooreStreet.png
END:VEVENT
BEGIN:VEVENT
DTSTART;TZID=America/New_York:20210327T130000
DTEND;TZID=America/New_York:20210327T143000
DTSTAMP:20260420T052228
CREATED:20210321T153640Z
LAST-MODIFIED:20210321T153640Z
UID:9305-1616850000-1616855400@aoh.com
SUMMARY:"Lincoln and the Irish" With Niall O'Dowd
DESCRIPTION:Niall O’Dowd reveals the story of Abraham Lincoln and the Irish during the Civil War. \nWatch on YouTube Live at https://youtu.be/FGsMIipxVW4 \n\n						Share List
URL:https://aoh.com/event/lincoln-and-the-irish-with-niall-odowd/
CATEGORIES:Webinar
ATTACH;FMTTYPE=image/png:https://aoh.com/gobansaer/wp-content/uploads/2021/03/thumbnail-template-for-family-youtubers-896d-1.png
END:VEVENT
END:VCALENDAR