BEGIN:VCALENDAR
VERSION:2.0
PRODID:-//The Ancient Order of Hibernians - ECPv6.2.3.2//NONSGML v1.0//EN
CALSCALE:GREGORIAN
METHOD:PUBLISH
X-ORIGINAL-URL:https://aoh.com
X-WR-CALDESC:Events for The Ancient Order of Hibernians
REFRESH-INTERVAL;VALUE=DURATION:PT1H
X-Robots-Tag:noindex
X-PUBLISHED-TTL:PT1H
BEGIN:VTIMEZONE
TZID:America/New_York
BEGIN:DAYLIGHT
TZOFFSETFROM:-0500
TZOFFSETTO:-0400
TZNAME:EDT
DTSTART:20210314T070000
END:DAYLIGHT
BEGIN:STANDARD
TZOFFSETFROM:-0400
TZOFFSETTO:-0500
TZNAME:EST
DTSTART:20211107T060000
END:STANDARD
END:VTIMEZONE
BEGIN:VEVENT
DTSTART;TZID=America/New_York:20210717T110000
DTEND;TZID=America/New_York:20210717T123000
DTSTAMP:20260419T230558
CREATED:20210706T170049Z
LAST-MODIFIED:20210706T170049Z
UID:9512-1626519600-1626525000@aoh.com
SUMMARY:Make Britain Keep Promise of Legacy Justice Webinar
DESCRIPTION:Jacqueline Butler\, daughter of a Springhill Massacre victim\, Steven Travers a survivor of the Miami Showband Massacre\, and Martin Mallon\, whose aunt Roseann Mallon was one of 17 collusion murder victims killed with the same weapons\, will ask American help to stop British moves to shut down legacy truth. The British reacted to the Ballymuphy Massacre verdict by announcing plans to amnesty its troop and renege on the Stormont House\, Agreement then appointed Trevor Ringland as a special envoy to America. \nJoin us live at https://youtu.be/UHK7ARh9o4U. \n\n\n						Share List
URL:https://aoh.com/event/make-britain-keep-promise-of-legacy-justice-webinar/
CATEGORIES:Webinar
ATTACH;FMTTYPE=image/png:https://aoh.com/gobansaer/wp-content/uploads/2021/07/SpringHill2.png
END:VEVENT
END:VCALENDAR