BEGIN:VCALENDAR
VERSION:2.0
PRODID:-//The Ancient Order of Hibernians - ECPv6.2.3.2//NONSGML v1.0//EN
CALSCALE:GREGORIAN
METHOD:PUBLISH
X-WR-CALNAME:The Ancient Order of Hibernians
X-ORIGINAL-URL:https://aoh.com
X-WR-CALDESC:Events for The Ancient Order of Hibernians
REFRESH-INTERVAL;VALUE=DURATION:PT1H
X-Robots-Tag:noindex
X-PUBLISHED-TTL:PT1H
BEGIN:VTIMEZONE
TZID:America/New_York
BEGIN:DAYLIGHT
TZOFFSETFROM:-0500
TZOFFSETTO:-0400
TZNAME:EDT
DTSTART:20210314T070000
END:DAYLIGHT
BEGIN:STANDARD
TZOFFSETFROM:-0400
TZOFFSETTO:-0500
TZNAME:EST
DTSTART:20211107T060000
END:STANDARD
END:VTIMEZONE
BEGIN:VEVENT
DTSTART;TZID=America/New_York:20210828T120000
DTEND;TZID=America/New_York:20210828T130000
DTSTAMP:20260419T212754
CREATED:20210821T195229Z
LAST-MODIFIED:20210821T195229Z
UID:9575-1630152000-1630155600@aoh.com
SUMMARY:2021 Freedom for All Ireland Christmas Appeal Donations
DESCRIPTION:Join us for a presentation on this years Christmas Appeal for Freedom for All Ireland. The FFAI Christmas Appeal enables the AOH to provide financial help to groups that assist in our goal of achieving complete and absolute independence\, peace and unity for all Ireland.\n \nWatch on YouTube Live: https://aoh.com/FFAIWebinar\n–or–\nRegister to join us on Zoom: https://aoh.com/FFAIRegister\n\n						Share List
URL:https://aoh.com/event/2021-freedom-for-all-ireland-christmas-appeal-donations/
CATEGORIES:Webinar
ATTACH;FMTTYPE=image/png:https://aoh.com/gobansaer/wp-content/uploads/2021/08/facebook-post-maker-for-a-holiday-deal-featuring-a-christmas-theme-3089h.png
END:VEVENT
END:VCALENDAR