BEGIN:VCALENDAR
VERSION:2.0
PRODID:-//The Ancient Order of Hibernians - ECPv6.2.3.2//NONSGML v1.0//EN
CALSCALE:GREGORIAN
METHOD:PUBLISH
X-WR-CALNAME:The Ancient Order of Hibernians
X-ORIGINAL-URL:https://aoh.com
X-WR-CALDESC:Events for The Ancient Order of Hibernians
REFRESH-INTERVAL;VALUE=DURATION:PT1H
X-Robots-Tag:noindex
X-PUBLISHED-TTL:PT1H
BEGIN:VTIMEZONE
TZID:America/New_York
BEGIN:DAYLIGHT
TZOFFSETFROM:-0500
TZOFFSETTO:-0400
TZNAME:EDT
DTSTART:20200308T070000
END:DAYLIGHT
BEGIN:STANDARD
TZOFFSETFROM:-0400
TZOFFSETTO:-0500
TZNAME:EST
DTSTART:20201101T060000
END:STANDARD
END:VTIMEZONE
BEGIN:VEVENT
DTSTART;TZID=America/New_York:20201216T133000
DTEND;TZID=America/New_York:20201216T143000
DTSTAMP:20260420T114215
CREATED:20201214T165703Z
LAST-MODIFIED:20201214T172429Z
UID:8869-1608125400-1608129000@aoh.com
SUMMARY:Border Communities Against Brexit
DESCRIPTION:Hear from those most impacted by Brexit.\n \nPlease Join the AOH discussion with Damian McGenity and other border community residents and learn first-hand their concerns.\n \nRegister for Zoom Webinar\n \n— or —\n \nWatch on YouTube Live\n\n						Share List
URL:https://aoh.com/event/border-communities-against-brexit/
CATEGORIES:Webinar
ATTACH;FMTTYPE=image/png:https://aoh.com/gobansaer/wp-content/uploads/2020/12/youtube-thumbnail-maker-for-a-trading-vlog-3167e.png
END:VEVENT
END:VCALENDAR