BEGIN:VCALENDAR
VERSION:2.0
PRODID:-//The Ancient Order of Hibernians - ECPv6.2.3.2//NONSGML v1.0//EN
CALSCALE:GREGORIAN
METHOD:PUBLISH
X-WR-CALNAME:The Ancient Order of Hibernians
X-ORIGINAL-URL:https://aoh.com
X-WR-CALDESC:Events for The Ancient Order of Hibernians
REFRESH-INTERVAL;VALUE=DURATION:PT1H
X-Robots-Tag:noindex
X-PUBLISHED-TTL:PT1H
BEGIN:VTIMEZONE
TZID:America/New_York
BEGIN:DAYLIGHT
TZOFFSETFROM:-0500
TZOFFSETTO:-0400
TZNAME:EDT
DTSTART:20210314T070000
END:DAYLIGHT
BEGIN:STANDARD
TZOFFSETFROM:-0400
TZOFFSETTO:-0500
TZNAME:EST
DTSTART:20211107T060000
END:STANDARD
END:VTIMEZONE
BEGIN:VEVENT
DTSTART;TZID=America/New_York:20210123T110000
DTEND;TZID=America/New_York:20210123T120000
DTSTAMP:20260420T095802
CREATED:20210111T190839Z
LAST-MODIFIED:20210111T190839Z
UID:8919-1611399600-1611403200@aoh.com
SUMMARY:Hibernians Webinar - Legacy Justice Appeal
DESCRIPTION:Hundreds of victims’ families\, fighting new British plans to cut off chances for legacy justice\, will make a special live appeal for American support on a webinar hosted by Hibernians on Saturday\, January 23rd. This special appeal to Irish Americans will climax a series of events\, including a published open letter signed by hundreds of families\, and political initiatives both north and south. Relatives for Justice Director Mark Thompson and selected victims’ representatives will speak from Ireland\, while America’s oldest and largest Irish organization\, the Ancient Order of Hibernians and Ladies Ancient Order of Hibernians\, will co-host the virtual webinar broadcast\, led by National Presidents Danny O’Connell and Karen Keane. Leaders of other Irish American groups are being invited to participate in the webinar which will begin at 4pm in Ireland\,11am eastern time.\n \nWatch on YouTube Live at: https://youtu.be/NgXYBthu7OQ\n\n						Share List
URL:https://aoh.com/event/hibernians-webinar-legacy-justice-appeal/
CATEGORIES:Webinar
ATTACH;FMTTYPE=image/png:https://aoh.com/gobansaer/wp-content/uploads/2021/01/youtube-thumbnail-maker-for-a-tech-reviews-channel-893-1.png
END:VEVENT
END:VCALENDAR