BEGIN:VCALENDAR
VERSION:2.0
PRODID:-//The Ancient Order of Hibernians - ECPv6.2.3.2//NONSGML v1.0//EN
CALSCALE:GREGORIAN
METHOD:PUBLISH
X-ORIGINAL-URL:https://aoh.com
X-WR-CALDESC:Events for The Ancient Order of Hibernians
REFRESH-INTERVAL;VALUE=DURATION:PT1H
X-Robots-Tag:noindex
X-PUBLISHED-TTL:PT1H
BEGIN:VTIMEZONE
TZID:America/New_York
BEGIN:DAYLIGHT
TZOFFSETFROM:-0500
TZOFFSETTO:-0400
TZNAME:EDT
DTSTART:20210314T070000
END:DAYLIGHT
BEGIN:STANDARD
TZOFFSETFROM:-0400
TZOFFSETTO:-0500
TZNAME:EST
DTSTART:20211107T060000
END:STANDARD
END:VTIMEZONE
BEGIN:VEVENT
DTSTART;TZID=America/New_York:20210220T110000
DTEND;TZID=America/New_York:20210220T123000
DTSTAMP:20260420T082406
CREATED:20210217T232519Z
LAST-MODIFIED:20210217T232519Z
UID:9077-1613818800-1613824200@aoh.com
SUMMARY:AOH Heritage Tree Project
DESCRIPTION:AOH Irish Heritage Tree – Planting native trees in Ireland \n\n						Share List
URL:https://aoh.com/event/aoh-heritage-tree-project/
CATEGORIES:Webinar
ATTACH;FMTTYPE=image/png:https://aoh.com/gobansaer/wp-content/uploads/2021/02/AOH-Irish-Heritage-Tree-Partner-Information.png
END:VEVENT
END:VCALENDAR