BEGIN:VCALENDAR
VERSION:2.0
PRODID:-//The Ancient Order of Hibernians - ECPv6.2.3.2//NONSGML v1.0//EN
CALSCALE:GREGORIAN
METHOD:PUBLISH
X-WR-CALNAME:The Ancient Order of Hibernians
X-ORIGINAL-URL:https://aoh.com
X-WR-CALDESC:Events for The Ancient Order of Hibernians
REFRESH-INTERVAL;VALUE=DURATION:PT1H
X-Robots-Tag:noindex
X-PUBLISHED-TTL:PT1H
BEGIN:VTIMEZONE
TZID:America/New_York
BEGIN:DAYLIGHT
TZOFFSETFROM:-0500
TZOFFSETTO:-0400
TZNAME:EDT
DTSTART:20210314T070000
END:DAYLIGHT
BEGIN:STANDARD
TZOFFSETFROM:-0400
TZOFFSETTO:-0500
TZNAME:EST
DTSTART:20211107T060000
END:STANDARD
END:VTIMEZONE
BEGIN:VEVENT
DTSTART;TZID=America/New_York:20210227T130000
DTEND;TZID=America/New_York:20210227T143000
DTSTAMP:20260420T082216
CREATED:20210217T164404Z
LAST-MODIFIED:20210217T164404Z
UID:9069-1614430800-1614436200@aoh.com
SUMMARY:Project St Patrick Easter Appeal
DESCRIPTION:Host\, national Chaplain Reverend John Keehner. \nGuest Speaker  Most Reverend Bishop Alphonsus Cullinan of Waterford & Lismore Ireland\, Chair of the Council for Vocations of the Irish Catholic Bishops’ Conference. \nAdditional Guest will include PSP Grant recipients. \nWatch on YouTube at: https://youtu.be/uEmrkM-w4tw \n\n						Share List
URL:https://aoh.com/event/project-st-patrick-easter-appeal/
CATEGORIES:Webinar
ATTACH;FMTTYPE=image/png:https://aoh.com/gobansaer/wp-content/uploads/2021/02/PSPEasterAppeal.png
END:VEVENT
END:VCALENDAR