BEGIN:VCALENDAR
VERSION:2.0
PRODID:-//The Ancient Order of Hibernians - ECPv6.2.3.2//NONSGML v1.0//EN
CALSCALE:GREGORIAN
METHOD:PUBLISH
X-ORIGINAL-URL:https://aoh.com
X-WR-CALDESC:Events for The Ancient Order of Hibernians
REFRESH-INTERVAL;VALUE=DURATION:PT1H
X-Robots-Tag:noindex
X-PUBLISHED-TTL:PT1H
BEGIN:VTIMEZONE
TZID:America/New_York
BEGIN:DAYLIGHT
TZOFFSETFROM:-0500
TZOFFSETTO:-0400
TZNAME:EDT
DTSTART:20210314T070000
END:DAYLIGHT
BEGIN:STANDARD
TZOFFSETFROM:-0400
TZOFFSETTO:-0500
TZNAME:EST
DTSTART:20211107T060000
END:STANDARD
END:VTIMEZONE
BEGIN:VEVENT
DTSTART;TZID=America/New_York:20210228T140000
DTEND;TZID=America/New_York:20210228T153000
DTSTAMP:20260420T065239
CREATED:20210217T212910Z
LAST-MODIFIED:20210217T213840Z
UID:9073-1614520800-1614526200@aoh.com
SUMMARY:Sean Graham Bookmakers Atrocity
DESCRIPTION:The AOH discusses the PSNI Harassment of survivors and families of victims of an infamous loyalist atrocity.\n \nGuests included Mark Sykes and Billy McManus. Special Guest Andree Murphy on behalf of Relatives for Justice.\n \nWatch on YouTube: https://youtu.be/PtHwm_kXvtc\n\n						Share List
URL:https://aoh.com/event/sean-graham-bookmakers-atrocity/
CATEGORIES:Webinar
ATTACH;FMTTYPE=image/png:https://aoh.com/gobansaer/wp-content/uploads/2021/02/SeanGrahamBookmakers.png
END:VEVENT
END:VCALENDAR