BEGIN:VCALENDAR
VERSION:2.0
PRODID:-//The Ancient Order of Hibernians - ECPv6.2.3.2//NONSGML v1.0//EN
CALSCALE:GREGORIAN
METHOD:PUBLISH
X-WR-CALNAME:The Ancient Order of Hibernians
X-ORIGINAL-URL:https://aoh.com
X-WR-CALDESC:Events for The Ancient Order of Hibernians
REFRESH-INTERVAL;VALUE=DURATION:PT1H
X-Robots-Tag:noindex
X-PUBLISHED-TTL:PT1H
BEGIN:VTIMEZONE
TZID:America/New_York
BEGIN:DAYLIGHT
TZOFFSETFROM:-0500
TZOFFSETTO:-0400
TZNAME:EDT
DTSTART:20220313T070000
END:DAYLIGHT
BEGIN:STANDARD
TZOFFSETFROM:-0400
TZOFFSETTO:-0500
TZNAME:EST
DTSTART:20221106T060000
END:STANDARD
END:VTIMEZONE
BEGIN:VEVENT
DTSTART;TZID=America/New_York:20220129T110000
DTEND;TZID=America/New_York:20220129T123000
DTSTAMP:20260419T152308
CREATED:20220121T155159Z
LAST-MODIFIED:20220128T145602Z
UID:9778-1643454000-1643459400@aoh.com
SUMMARY:Webinar - Royal Ulster Constabulary Collusive Behavior in 19 Killings
DESCRIPTION:Troubles victim’s families speaks out against Collusive behavior of the Royal Ulster Constabulary. \nVictims’ families give their reaction to the devastating findings of Royal Ulster Constabulary’s “collusive behavior” in 19 murders carried out by loyalists. \n#LegacyJustice \n  \nWatch on YouTube Live  \n-or- \nRegister to join us on Zoom.   \n\n						Share List
URL:https://aoh.com/event/webinar-royal-ulster-constabulary-collusive-behavior-in-19-killings/
CATEGORIES:Webinar
ATTACH;FMTTYPE=image/png:https://aoh.com/gobansaer/wp-content/uploads/2022/01/minimalistic-youtube-thumbnail-maker-for-vlogs-891c.png
END:VEVENT
END:VCALENDAR