BEGIN:VCALENDAR
VERSION:2.0
PRODID:-//The Ancient Order of Hibernians - ECPv6.2.3.2//NONSGML v1.0//EN
CALSCALE:GREGORIAN
METHOD:PUBLISH
X-WR-CALNAME:The Ancient Order of Hibernians
X-ORIGINAL-URL:https://aoh.com
X-WR-CALDESC:Events for The Ancient Order of Hibernians
REFRESH-INTERVAL;VALUE=DURATION:PT1H
X-Robots-Tag:noindex
X-PUBLISHED-TTL:PT1H
BEGIN:VTIMEZONE
TZID:America/New_York
BEGIN:DAYLIGHT
TZOFFSETFROM:-0500
TZOFFSETTO:-0400
TZNAME:EDT
DTSTART:20220313T070000
END:DAYLIGHT
BEGIN:STANDARD
TZOFFSETFROM:-0400
TZOFFSETTO:-0500
TZNAME:EST
DTSTART:20221106T060000
END:STANDARD
BEGIN:DAYLIGHT
TZOFFSETFROM:-0500
TZOFFSETTO:-0400
TZNAME:EDT
DTSTART:20230312T070000
END:DAYLIGHT
BEGIN:STANDARD
TZOFFSETFROM:-0400
TZOFFSETTO:-0500
TZNAME:EST
DTSTART:20231105T060000
END:STANDARD
END:VTIMEZONE
BEGIN:VEVENT
DTSTART;TZID=America/New_York:20220219T110000
DTEND;TZID=America/New_York:20220219T123000
DTSTAMP:20260420T100426
CREATED:20220208T125058Z
LAST-MODIFIED:20220208T125059Z
UID:9823-1645268400-1645273800@aoh.com
SUMMARY:Operation Achille: A Study in Collusion
DESCRIPTION:We join Mark Sykes to discuss the latest Ombudsman Report OPERATION ACHILLE. Mark is a survivor of the Sean Graham’s bookmakers Massacre that took place on the Ormeau Road in south Belfast 30 years ago. \n  \nWatch on YouTube Live \n–or– \nRegister to participate in the Zoom Webinar \n\n						Share List
URL:https://aoh.com/event/operation-achille-a-study-in-collusion/
CATEGORIES:Webinar
ATTACH;FMTTYPE=image/jpeg:https://aoh.com/gobansaer/wp-content/uploads/2022/02/SeanGrahm.jpg
END:VEVENT
BEGIN:VEVENT
DTSTART;TZID=America/New_York:20220604T110000
DTEND;TZID=America/New_York:20220604T123000
DTSTAMP:20260420T100426
CREATED:20220526T124948Z
LAST-MODIFIED:20220527T053254Z
UID:10027-1654340400-1654345800@aoh.com
SUMMARY:Hibernian Talks: Goerings Gold: Interview with Richard O'Rawe
DESCRIPTION:Tim Noonan interviews Richard O’Rawe on his new novel Goering’s Gold\n \nZoom Webinar Registration: https://aoh.com/HibernianTalksRegister\nYouTube Live: https://aoh.com/HibernianTalksLive\n\n						Share List
URL:https://aoh.com/event/hibernian-talks-goerings-gold-interview-with-richard-orawe/
CATEGORIES:Webinar
ATTACH;FMTTYPE=image/jpeg:https://aoh.com/gobansaer/wp-content/uploads/2022/05/GoeringsGold.jpg
END:VEVENT
BEGIN:VEVENT
DTSTART;TZID=America/New_York:20230309T190000
DTEND;TZID=America/New_York:20230309T190000
DTSTAMP:20260420T100426
CREATED:20230309T170341Z
LAST-MODIFIED:20230309T170432Z
UID:10793-1678388400-1678388400@aoh.com
SUMMARY:“Women of the Irish Rising” with best-selling author Dr. Michael Hogan.
DESCRIPTION:Thursday March 9\, 2023\, 7:00 p.m. eastern “Women of the Irish Rising” with best-selling author Dr.\nMichael Hogan. \nRegister for Zoom Webinar: https://us02web.zoom.us/webinar/register/WN_191VqjDET_aWL7wfFuqtiQ\nWatch on YouTube: https://youtube.com/live/aJ4tZx7TtCo?feature=share \n\n						Share List
URL:https://aoh.com/event/women-of-the-irish-rising-with-best-selling-author-dr-michael-hogan/
CATEGORIES:Webinar
END:VEVENT
BEGIN:VEVENT
DTSTART;TZID=America/New_York:20230313T190000
DTEND;TZID=America/New_York:20230313T190000
DTSTAMP:20260420T100426
CREATED:20230309T170532Z
LAST-MODIFIED:20230309T170532Z
UID:10798-1678734000-1678734000@aoh.com
SUMMARY:“The Language Written in their Hills: Language Revival and National Rebirth in 20th Century Ireland” with Professor Aidan Beatty\, Visiting Professor\, University of Pittsburgh Honors College.
DESCRIPTION:Monday March 13\, 2023\, 7:00 p.m. eastern\, “The Language Written in their Hills: Language Revival and National Rebirth in 20th Century Ireland” with Professor Aidan Beatty\, Visiting Professor\, University of Pittsburgh Honors College. \n\n\nRegister for Zoom Webinar: https://us02web.zoom.us/webinar/register/WN_fxT8GcvUT4ivj9ff5Gdhzg\nWatch on YouTube: https://youtube.com/live/STMeyMAss4Q?feature=share\n\n\n						Share List
URL:https://aoh.com/event/the-language-written-in-their-hills-language-revival-and-national-rebirth-in-20th-century-ireland-with-professor-aidan-beatty-visiting-professor-university-of-pittsburgh-hono/
CATEGORIES:Webinar
END:VEVENT
BEGIN:VEVENT
DTSTART;TZID=America/New_York:20230325T130000
DTEND;TZID=America/New_York:20230325T130000
DTSTAMP:20260420T100426
CREATED:20230309T170615Z
LAST-MODIFIED:20230309T170615Z
UID:10800-1679749200-1679749200@aoh.com
SUMMARY:“Irish American and the Northern Ireland Conflict” with Robert Collins\, Lecturer\, University of Limerick
DESCRIPTION:Saturday March 25\, 2023 1:00 p.m. eastern “Irish American and the Northern Ireland Conflict” with Robert Collins\, Lecturer\, University of Limerick. \n\n\nRegister for Zoom Webinar: https://us02web.zoom.us/webinar/register/WN_z-kmwaHQT7eewEek1yXvbA\nWatch on YouTube: https://youtube.com/live/gB-Sb5RjODw?feature=share\n\n\n						Share List
URL:https://aoh.com/event/irish-american-and-the-northern-ireland-conflict-with-robert-collins-lecturer-university-of-limerick/
CATEGORIES:Webinar
END:VEVENT
BEGIN:VEVENT
DTSTART;TZID=America/New_York:20230329T190000
DTEND;TZID=America/New_York:20230329T190000
DTSTAMP:20260420T100426
CREATED:20230309T170651Z
LAST-MODIFIED:20230309T170651Z
UID:10802-1680116400-1680116400@aoh.com
SUMMARY:“Canadian Spy Story: Irish Revolutionaries and the Secret Police” with Professor David Wilson\, University of Toronto
DESCRIPTION:Wednesday March 29\, 2023\, 7:00 pm.\, “Canadian Spy Story: Irish Revolutionaries and the Secret Police” with Professor David Wilson\, University of Toronto \n\n\nRegister for Zoom Webinar: https://us02web.zoom.us/webinar/register/WN_E9CkfoAXRiOA5Fc7ZUvasw\nWatch on YouTube: https://youtube.com/live/xoQuAVNFG7Y?feature=share\n\n\n						Share List
URL:https://aoh.com/event/canadian-spy-story-irish-revolutionaries-and-the-secret-police-with-professor-david-wilson-university-of-toronto/
CATEGORIES:Webinar
END:VEVENT
END:VCALENDAR